BEGIN:VCALENDAR
VERSION:2.0
PRODID:-//Zukunft-Fabrik.2050 - ECPv6.15.20//NONSGML v1.0//EN
CALSCALE:GREGORIAN
METHOD:PUBLISH
X-WR-CALNAME:Zukunft-Fabrik.2050
X-ORIGINAL-URL:https://www.zukunftfabrik2050.de
X-WR-CALDESC:Veranstaltungen für Zukunft-Fabrik.2050
REFRESH-INTERVAL;VALUE=DURATION:PT1H
X-Robots-Tag:noindex
X-PUBLISHED-TTL:PT1H
BEGIN:VTIMEZONE
TZID:Europe/Berlin
BEGIN:DAYLIGHT
TZOFFSETFROM:+0100
TZOFFSETTO:+0200
TZNAME:CEST
DTSTART:20250330T010000
END:DAYLIGHT
BEGIN:STANDARD
TZOFFSETFROM:+0200
TZOFFSETTO:+0100
TZNAME:CET
DTSTART:20251026T010000
END:STANDARD
BEGIN:DAYLIGHT
TZOFFSETFROM:+0100
TZOFFSETTO:+0200
TZNAME:CEST
DTSTART:20260329T010000
END:DAYLIGHT
BEGIN:STANDARD
TZOFFSETFROM:+0200
TZOFFSETTO:+0100
TZNAME:CET
DTSTART:20261025T010000
END:STANDARD
BEGIN:DAYLIGHT
TZOFFSETFROM:+0100
TZOFFSETTO:+0200
TZNAME:CEST
DTSTART:20270328T010000
END:DAYLIGHT
BEGIN:STANDARD
TZOFFSETFROM:+0200
TZOFFSETTO:+0100
TZNAME:CET
DTSTART:20271031T010000
END:STANDARD
END:VTIMEZONE
BEGIN:VEVENT
DTSTART;TZID=Europe/Berlin:20260119T180000
DTEND;TZID=Europe/Berlin:20260119T200000
DTSTAMP:20260425T175456
CREATED:20251223T184320Z
LAST-MODIFIED:20260109T153438Z
UID:7770-1768845600-1768852800@www.zukunftfabrik2050.de
SUMMARY:Visionen braucht das Land: Buchpremiere mit Dr. Jochen Andritzky\, Mitinitiator der Zukunft-Fabrik.2050\, und Johannes Winkel\, Vorsitzender der JU und Sprecher der Jungen Gruppe im Bundestag
DESCRIPTION:Deutschland steht an einem Wendepunkt. Klimawandel\, demografischer Umbruch\, digitale Disruption und geopolitische Spannungen stellen unser Land vor tiefgreifende Herausforderungen. Dennoch prägen allzu oft kurzfristiger Aktionismus und Verwaltung des Status quo die politische Debatte statt mutiger Reformen mit langfristiger Perspektive. \nMit Visionen braucht das Land legt Jochen Andritzky\, Mitinitiator der Zukunft-Fabrik.2050 für langfristige Politik\, ein pointiertes Plädoyer für eine neue wirtschaftspolitische Kultur vor. Sein Buch wirbt für eine Politik\, die Ursachen angeht statt Symptome zu verwalten und die Zukunft mit klaren Zielen\, tragfähigen Institutionen und langfristigem Denken gestaltet. \nWir laden Sie herzlich zur Buchpremiere im Dussmann KulturKaufhaus ein. Im Rahmen der Veranstaltung stellt Jochen Andritzky sein Buch vor. Anschließend diskutiert er mit Johannes Winkel über die Voraussetzungen\, Chancen und Grenzen visionsgeleiteter Politik in Deutschland. Die Moderation übernimmt Jenny Joy Schumann. Im Anschluss laden wir zu einem Empfang ein\, unterstützt von der Dussmann Group. \nDer Eintritt ist frei. \nWir freuen uns auf Ihr Kommen und einen anregenden Abend. \nMit herzlichen Zukunft-Grüßen\nIhr Zukunft-Fabrik.2050 Lab Team
URL:https://www.zukunftfabrik2050.de/veranstaltung/visionen-braucht-das-land-buchpremiere-mit-dr-jochen-andritzky-mitinitiator-der-zukunft-fabrik-2050-und-johannes-winkel-vorsitzender-der-ju-und-sprecher-der-jungen-gruppe-im-bundestag/
CATEGORIES:Visionen Braucht Das Land,ZF.2050 Lab
ATTACH;FMTTYPE=image/jpeg:https://www.zukunftfabrik2050.de/wp-content/uploads/2025/12/Jochen-Andritzky-Johannes-Winkel.jpg
END:VEVENT
END:VCALENDAR